BEGIN:VCALENDAR
VERSION:2.0
PRODID:-//Hindi Vidya Prachar Samiti&#039;s RAMNIRANJAN JHUNJHUNWALA COLLEGE OF ARTS, SCIENCE &amp; COMMERCE  (EMPOWERED AUTONOMOUS) - ECPv6.6.3//NONSGML v1.0//EN
CALSCALE:GREGORIAN
METHOD:PUBLISH
X-ORIGINAL-URL:https://www.rjcollege.edu.in
X-WR-CALDESC:Events for Hindi Vidya Prachar Samiti&#039;s RAMNIRANJAN JHUNJHUNWALA COLLEGE OF ARTS, SCIENCE &amp; COMMERCE  (EMPOWERED AUTONOMOUS)
REFRESH-INTERVAL;VALUE=DURATION:PT1H
X-Robots-Tag:noindex
X-PUBLISHED-TTL:PT1H
BEGIN:VTIMEZONE
TZID:UTC
BEGIN:STANDARD
TZOFFSETFROM:+0000
TZOFFSETTO:+0000
TZNAME:UTC
DTSTART:20210101T000000
END:STANDARD
END:VTIMEZONE
BEGIN:VEVENT
DTSTART;TZID=UTC:20211101T080000
DTEND;TZID=UTC:20211101T160000
DTSTAMP:20260424T181303
CREATED:20211031T090232Z
LAST-MODIFIED:20211031T091759Z
UID:27734-1635753600-1635782400@www.rjcollege.edu.in
SUMMARY:HVPS-R J College COVID-19 VACCINATION CAMP (1 Nov 2021)
DESCRIPTION:HVPS-R J College COVID-19 VACCINATION CAMP (1 Nov 2021)
URL:https://www.rjcollege.edu.in/event/hvps-r-j-college-covid-19-vaccination-camp-1-nov-2021/
LOCATION:Maharashtra
CATEGORIES:Events
END:VEVENT
BEGIN:VEVENT
DTSTART;VALUE=DATE:20211117
DTEND;VALUE=DATE:20211119
DTSTAMP:20260424T181303
CREATED:20211115T055300Z
LAST-MODIFIED:20211123T055437Z
UID:27811-1637107200-1637279999@www.rjcollege.edu.in
SUMMARY:Campus Placement-UGAM - Contractual Hiring M.Sc IT and CS (Internship)
DESCRIPTION:Campus Placement-UGAM – Contractual Hiring M.Sc IT and CS (Internship)\nAptitude test and GD
URL:https://www.rjcollege.edu.in/event/campus-placement-ugam-contractual-hiring-m-sc-it-and-cs-internship/
LOCATION:Maharashtra
CATEGORIES:Campus Placement Drive,Events
END:VEVENT
BEGIN:VEVENT
DTSTART;TZID=UTC:20211123T080000
DTEND;TZID=UTC:20211125T170000
DTSTAMP:20260424T181303
CREATED:20211123T055632Z
LAST-MODIFIED:20211123T055722Z
UID:27815-1637654400-1637859600@www.rjcollege.edu.in
SUMMARY:Campus Placement-UGAM -  B.Sc IT and CS  2022 Passing out Batch Hiring
DESCRIPTION:Campus Placement-UGAM – B.Sc IT and CS 2022 Passing out Batch Hiring \nPreplacement talk on 23rd Nov 2021 \n\nGD and PI
URL:https://www.rjcollege.edu.in/event/campus-placement-ugam-b-sc-it-and-cs-2022-passing-out-batch-hiring/
LOCATION:Maharashtra
CATEGORIES:Campus Placement Drive,Events
END:VEVENT
BEGIN:VEVENT
DTSTART;TZID=UTC:20211123T080000
DTEND;TZID=UTC:20211128T110000
DTSTAMP:20260424T181303
CREATED:20211123T095827Z
LAST-MODIFIED:20211123T095827Z
UID:27819-1637654400-1638097200@www.rjcollege.edu.in
SUMMARY:Certificate Course in YOGA from 24th Nov to 28th Nov 2021 @8.00 AM organized by HVPS RJC-NSS-NCC in collaboration with Kaivalyadhama
DESCRIPTION:
URL:https://www.rjcollege.edu.in/event/certificate-course-in-yoga-from-24th-nov-to-28th-nov-2021-8-00-am-organized-by-hvps-rjc-nss-ncc-in-collaboration-with-kaivalyadhama/
LOCATION:Maharashtra
CATEGORIES:Events,Session,Workshop
END:VEVENT
BEGIN:VEVENT
DTSTART;VALUE=DATE:20211125
DTEND;VALUE=DATE:20211128
DTSTAMP:20260424T181303
CREATED:20211123T054943Z
LAST-MODIFIED:20211123T054944Z
UID:27805-1637798400-1638057599@www.rjcollege.edu.in
SUMMARY:ESSAY WRITING COMPETITION  📌 Department Of Life Long Learning And Extension (DLLE) of Ramniranjan Jhunjhunwala College\, Ghatkopar
DESCRIPTION:🖊️ ESSAY WRITING COMPETITION \n📌 Department Of Life Long Learning And Extension (DLLE) Of Ramniranjan Jhunjhunwala College\, Ghatkopar\, mumbai 400086. \nIs organising 🖇️”ESSAY COMPETITION”🖇️ on\nthe occasion of 🧑🏻‍⚖️ NATIONAL LAW DAY 👩🏻‍⚖️ \n✨ Essay writing competition✨ \nRegister link : https://docs.google.com/forms/d/e/1FAIpQLSe1JOICaJ7WvceGqjvUgJjF7MA1-wVv3iB9afOtRnSLYT54dA/viewform?usp=sf_link \n⏳ Starting From –> 25th November 2021.\n⌛ Deadline –> 26th November 2021.\n*⏰Timing for submission: 9am to 11pm⏰ \n🟢 Steps To Follow 🟢 \n_*1)*_ Use a A4 size supplement to write an essay on 🍂 History of Constitution🍂.\n2) After completing your work you can upload it between the given dates and time \, through the link given below. \n*🔹Link For Submission🔹*https://docs.google.com/forms/d/e/1FAIpQLSd6XasnIIDur6tcdGAM02VvPBjGHbSHYFTgzy8QbY1NCxRToQ/viewform?usp=sf_link \n  \n✅ NOTE : 👇🏻\n▪️ _No participation charges._\n▪️ All “RJ College”students can apply.\n▪️ All Participants will get E-Certificate.\n▪️ Top 3 winners notified via email. \n❓❓For any queries\, Please Contact:\n( From 10.00 am to 5.00 pm ) 📞💬“`\n➡️ Shreya Chaurasiya 8291421914\n➡️ Dimpal Tiwari 8080089936 \nStay Safe\, Stay Happy😊 ✌🏻\nAwaiting for your active participation !! 😇
URL:https://www.rjcollege.edu.in/event/essay-writing-competition-%f0%9f%93%8c-department-of-life-long-learning-and-extension-dlle-of-ramniranjan-jhunjhunwala-college-ghatkopar/
LOCATION:Maharashtra
CATEGORIES:Educational Event,Events
END:VEVENT
BEGIN:VEVENT
DTSTART;VALUE=DATE:20211125
DTEND;VALUE=DATE:20211126
DTSTAMP:20260424T181303
CREATED:20211124T071652Z
LAST-MODIFIED:20211124T074932Z
UID:27827-1637798400-1637884799@www.rjcollege.edu.in
SUMMARY:College Women Development Cell on the occasion of International Day for the Elimination of Violence against Women The College Women Development Cell is organizing a Slogan Competition on 25th Nov 2021
DESCRIPTION:College Women Development Cell\nOn\nthe occasion of International Day for the Elimination of Violence against Women The College Women Development Cell is organizing a Slogan Competition \n(25th Nov 2021) \nThe competition is open for students of all faculty of RJ College The details are as follows \nTopic\nRelated to elimination of violence against women \nLanguages\nEnglish\, Hindi\, or Marathi \nFormat\npdf only \nEmail address for submission  \ncwdc@rjcollege.edu.in \n  \nLast date for submission  \nMonday\, 20th December 2021 \nDeclaration\nof result 03rd January 2022\nAll are cordially invited \nCWDC Slogan Competition-Notice
URL:https://www.rjcollege.edu.in/event/slogan-competition-on-25th-nov-2021/
LOCATION:Maharashtra
CATEGORIES:Educational Event,Events
END:VEVENT
BEGIN:VEVENT
DTSTART;TZID=UTC:20211125T150000
DTEND;TZID=UTC:20211125T170000
DTSTAMP:20260424T181303
CREATED:20211124T062504Z
LAST-MODIFIED:20211124T062504Z
UID:27822-1637852400-1637859600@www.rjcollege.edu.in
SUMMARY:Open Defence Viva Voce of Ms. Maria Shaikh is scheduled on Thursday\, November 25\, 2021 at 3 p.m.
DESCRIPTION:The Open Defence Viva Voce of Ms. Maria Shaikh is scheduled on Thursday\,\nNovember 25\, 2021 at 3 p.m.\nDetails are as follows:\nCandidate: Ms. Maria Shaikh\nPh.D. Supervisor: Dr. A. P. Pandey\nSubject: English\nTitle: Criminological Pattern in Select Novels of Karin Fossum and\nKalpana Swaminathan: A Comparative Study\nDate: November 25\, 2021\nTime: 3 p.m. \nVenue: Zoom Platform
URL:https://www.rjcollege.edu.in/event/open-defence-viva-voce-of-ms-maria-shaikh-is-scheduled-on-thursday-november-25-2021-at-3-p-m/
LOCATION:Maharashtra
CATEGORIES:Events,Open Defence Viva Voce
END:VEVENT
BEGIN:VEVENT
DTSTART;TZID=UTC:20211126T160000
DTEND;TZID=UTC:20211126T180000
DTSTAMP:20260424T181303
CREATED:20211124T054344Z
LAST-MODIFIED:20211126T054400Z
UID:27841-1637942400-1637949600@www.rjcollege.edu.in
SUMMARY:RJC- Department of Commerce Online Quiz To celebrate Indian Constitution Day (National Law Day)
DESCRIPTION:Department of Commerce\nOrganize\nOnline Quiz\nTo celebrate\nIndian Constitution Day (National Law Day)\nDay: Friday\nDate: November 26\, 2021\nThe link for the Quiz is as follow and it will be active between 04:00 pm to 06:00 pm on 26th November 2021. \nhttps://docs.google.com/forms/d/e/1FAIpQLSdZm5BtlTQEBI-fW8XOn2PR5UhpDpptAA0afd9z4k8NZX9a7Q/viewform?usp=sf_link\nStudents and Teachers from all faculties are cordially invited to participate in the quiz.\nDR. HIMANSHU DAWDA\nPRINCIPAL
URL:https://www.rjcollege.edu.in/event/rjc-department-of-commerce-online-quiz-to-celebrate-indian-constitution-day-national-law-day/
LOCATION:Maharashtra
CATEGORIES:Events,Quiz
END:VEVENT
BEGIN:VEVENT
DTSTART;TZID=UTC:20211126T160000
DTEND;TZID=UTC:20211127T170000
DTSTAMP:20260424T181303
CREATED:20211124T071040Z
LAST-MODIFIED:20211124T071041Z
UID:27824-1637942400-1638032400@www.rjcollege.edu.in
SUMMARY:Workshop on SCIENCE WRITING on 26 th & 27 th November 2021 @ 4.00 PM
DESCRIPTION:Hindi Vidya Prachar Samiti’s \nRamniranjan Jhunjhunwala College( Autonomous)\nIQAC and RESEARCH ADVISORY COMMITTEE organises a\nWorkshop on SCIENCE WRITING \nPlatform : Online : ZOOM\nDay : Friday & Saturday\nDate:\n26 th & 27 th November 2021\nTime: 4.00pm \n  \nRegistration Link:
URL:https://www.rjcollege.edu.in/event/workshop-on-science-writing-on-26-th-27-th-november-2021-4-00-pm/
LOCATION:Maharashtra
CATEGORIES:Events,Workshop
END:VEVENT
BEGIN:VEVENT
DTSTART;TZID=UTC:20211127T110000
DTEND;TZID=UTC:20211127T170000
DTSTAMP:20260424T181303
CREATED:20211126T054725Z
LAST-MODIFIED:20211126T054725Z
UID:27843-1638010800-1638032400@www.rjcollege.edu.in
SUMMARY:BBI\, B.VOC and BAF Departments of the RJ family welcomes you to participate in a  Virtual Quiz  conducted on account of  World Investors Week 2021
DESCRIPTION:Hindi Vidya Prachar Samiti’s \nRAMNIRANJAN  JHUNJHUNWALA COLLEGE (AUTONOMOUS) \nOpposite Ghatkopar Railway Station\, Ghatkopar (W)\, Mumbai 400 086. \nBBI\, B.VOC and BAF Departments of the RJ family  \nwelcomes you to participate in a \nVirtual Quiz  \nconducted on account of  \nWorld Investors Week 2021 \nNOTE: \n1)The Quiz will have 20 questions of 1 marks each. \n2)The questions will be based on basic Investment Awareness.  \n3)No Negative Marking. \n4)Only Participants who have scored at least 75% will receive an  E-Certificate.  \n5)The Quiz Link will be shared on WhatsApp group on Saturday 27th November\, 2021 between 11.00 AM to 5.00 PM
URL:https://www.rjcollege.edu.in/event/bbi-b-voc-and-baf-departments-of-the-rj-family-welcomes-you-to-participate-in-a-virtual-quiz-conducted-on-account-of-world-investors-week-2021/
LOCATION:Maharashtra
CATEGORIES:Events,Quiz
END:VEVENT
BEGIN:VEVENT
DTSTART;VALUE=DATE:20211130
DTEND;VALUE=DATE:20211201
DTSTAMP:20260424T181303
CREATED:20211126T015258Z
LAST-MODIFIED:20211201T015330Z
UID:27861-1638230400-1638316799@www.rjcollege.edu.in
SUMMARY:HVPS-Department of Mass Media (MAEMA and BAMMC) : Online Quiz on the occasion of Computer Security Day
DESCRIPTION:HVPS RAMNIRANJAN JHUNJHUNWALA COLLEGE OF ARTS\, SCIENCE & COMMERCE (AUTONOMOUS)\, MUMBAI \nDepartment of Mass Media (MAEMA and BAMMC) \nOn the occasion of Computer Security Day on the 30th of November\, 2021. \nInvite students from all streams to participate in an online quiz to test your computer security awareness. \nParticipants securing above 80% shall receive a certificate. \nOpen for students of all streams. \nQuiz Link:\nhttps://forms.gle/oHfR6bRG7xQG1BJ5A
URL:https://www.rjcollege.edu.in/event/hvps-department-of-mass-media-maema-and-bammc-online-quiz-on-the-occasion-of-computer-security-day/
LOCATION:Maharashtra
CATEGORIES:Events,Quiz
END:VEVENT
BEGIN:VEVENT
DTSTART;TZID=UTC:20211130T110000
DTEND;TZID=UTC:20211130T233000
DTSTAMP:20260424T181303
CREATED:20211127T051924Z
LAST-MODIFIED:20211127T051924Z
UID:27845-1638270000-1638315000@www.rjcollege.edu.in
SUMMARY:HVPS-RJC: Chemistry- PURCHASE COMMIITTEE MEETING
DESCRIPTION:HVPS-RJC: Chemistry- PURCHASE COMMIITTEE MEETING\nTime: Nov 30\, 2021 11:00 AM India
URL:https://www.rjcollege.edu.in/event/hvps-rjc-chemistry-purchase-commiittee-meeting/
LOCATION:Maharashtra
CATEGORIES:Events,Meeting
END:VEVENT
BEGIN:VEVENT
DTSTART;TZID=UTC:20211130T113000
DTEND;TZID=UTC:20211130T120000
DTSTAMP:20260424T181303
CREATED:20211127T052039Z
LAST-MODIFIED:20211127T052040Z
UID:27848-1638271800-1638273600@www.rjcollege.edu.in
SUMMARY:Physics - PURCHASE COMMIITTEE MEETING
DESCRIPTION:HVPS-RJC: Physics – PURCHASE COMMIITTEE MEETING\nTime: Nov 30\, 2021 11:30 AM India
URL:https://www.rjcollege.edu.in/event/physics-purchase-commiittee-meeting/
LOCATION:Maharashtra
CATEGORIES:Events,Meeting
END:VEVENT
BEGIN:VEVENT
DTSTART;TZID=UTC:20211130T120000
DTEND;TZID=UTC:20211130T123000
DTSTAMP:20260424T181303
CREATED:20211127T052148Z
LAST-MODIFIED:20211127T052149Z
UID:27850-1638273600-1638275400@www.rjcollege.edu.in
SUMMARY:Botany - PURCHASE COMMIITTEE MEETING
DESCRIPTION:HVPS-RJC: Botany – PURCHASE COMMIITTEE MEETING\nTime: Nov 30\, 2021 12:00 PM India
URL:https://www.rjcollege.edu.in/event/botany-purchase-commiittee-meeting/
LOCATION:Maharashtra
CATEGORIES:Events,Meeting
END:VEVENT
BEGIN:VEVENT
DTSTART;TZID=UTC:20211130T123000
DTEND;TZID=UTC:20211130T130000
DTSTAMP:20260424T181303
CREATED:20211127T052330Z
LAST-MODIFIED:20211127T052330Z
UID:27852-1638275400-1638277200@www.rjcollege.edu.in
SUMMARY:HVPS-RJC: Zoology - PURCHASE COMMIITTEE MEETING
DESCRIPTION:HVPS-RJC: Zoology – PURCHASE COMMIITTEE MEETING\nTime: Nov 30\, 2021 12:30 PM India
URL:https://www.rjcollege.edu.in/event/hvps-rjc-zoology-purchase-commiittee-meeting/
LOCATION:Maharashtra
CATEGORIES:Events,Meeting
END:VEVENT
BEGIN:VEVENT
DTSTART;TZID=UTC:20211130T130000
DTEND;TZID=UTC:20211130T133000
DTSTAMP:20260424T181303
CREATED:20211127T052425Z
LAST-MODIFIED:20211127T052425Z
UID:27854-1638277200-1638279000@www.rjcollege.edu.in
SUMMARY:HVPS-RJC: Library - PURCHASE COMMIITTEE MEETING
DESCRIPTION:HVPS-RJC: Library – PURCHASE COMMIITTEE MEETING\nTime: Nov 30\, 2021 01:00 PM India
URL:https://www.rjcollege.edu.in/event/hvps-rjc-library-purchase-commiittee-meeting/
LOCATION:Maharashtra
CATEGORIES:Events,Meeting
END:VEVENT
BEGIN:VEVENT
DTSTART;TZID=UTC:20211130T140000
DTEND;TZID=UTC:20211130T153000
DTSTAMP:20260424T181303
CREATED:20211201T015841Z
LAST-MODIFIED:20211201T020058Z
UID:27863-1638280800-1638286200@www.rjcollege.edu.in
SUMMARY:HVPS-RJC-Department of Bachelor of Vocational (B.VOC) in association with Pearl Academy Presents webinar on Design Thinking
DESCRIPTION:Ramniranjan Jhunjhunwala College Of Arts\, Science & Commerce (Autonomous)\, Mumbai\nDepartment of Bachelor of Vocational (B.VOC) in association with\nPearl Academy\nPresents webinar on\nDesign Thinking\nTuesday 30th November\,2021\nTimings\n2pm-3:30pm \nOpen for all streams Students\nRegistration Link: \nhttps://forms.gle/7q3RFfjeh19KrkgK6 \nZoom link will be given on what’s app groups\nContact Details:\nMs. Jewel Sabhani – BVOC Dept.
URL:https://www.rjcollege.edu.in/event/hvps-rjc-department-of-bachelor-of-vocational-b-voc-in-association-with-pearl-academy-presents-webinar-on-design-thinking/
LOCATION:Maharashtra
CATEGORIES:Events,Webinar
END:VEVENT
END:VCALENDAR