BEGIN:VCALENDAR
VERSION:2.0
PRODID:-//Hindi Vidya Prachar Samiti&#039;s RAMNIRANJAN JHUNJHUNWALA COLLEGE OF ARTS, SCIENCE &amp; COMMERCE  (EMPOWERED AUTONOMOUS) - ECPv6.6.3//NONSGML v1.0//EN
CALSCALE:GREGORIAN
METHOD:PUBLISH
X-WR-CALNAME:Hindi Vidya Prachar Samiti&#039;s RAMNIRANJAN JHUNJHUNWALA COLLEGE OF ARTS, SCIENCE &amp; COMMERCE  (EMPOWERED AUTONOMOUS)
X-ORIGINAL-URL:https://www.rjcollege.edu.in
X-WR-CALDESC:Events for Hindi Vidya Prachar Samiti&#039;s RAMNIRANJAN JHUNJHUNWALA COLLEGE OF ARTS, SCIENCE &amp; COMMERCE  (EMPOWERED AUTONOMOUS)
REFRESH-INTERVAL;VALUE=DURATION:PT1H
X-Robots-Tag:noindex
X-PUBLISHED-TTL:PT1H
BEGIN:VTIMEZONE
TZID:UTC
BEGIN:STANDARD
TZOFFSETFROM:+0000
TZOFFSETTO:+0000
TZNAME:UTC
DTSTART:20210101T000000
END:STANDARD
END:VTIMEZONE
BEGIN:VEVENT
DTSTART;TZID=UTC:20210621T103000
DTEND;TZID=UTC:20210621T123000
DTSTAMP:20260425T205359
CREATED:20210620T095926Z
LAST-MODIFIED:20210620T095926Z
UID:27091-1624271400-1624278600@www.rjcollege.edu.in
SUMMARY:International YOGA Day
DESCRIPTION:
URL:https://www.rjcollege.edu.in/event/international-yoga-day/
LOCATION:Maharashtra
CATEGORIES:Educational Event,Events,Session,Webinar,Workshop
END:VEVENT
END:VCALENDAR